BEGIN:VCALENDAR
VERSION:2.0
PRODID:-//A pedibus - ECPv6.15.20//NONSGML v1.0//EN
CALSCALE:GREGORIAN
METHOD:PUBLISH
X-ORIGINAL-URL:https://www.vadrouilles.ch
X-WR-CALDESC:Évènements pour A pedibus
REFRESH-INTERVAL;VALUE=DURATION:PT1H
X-Robots-Tag:noindex
X-PUBLISHED-TTL:PT1H
BEGIN:VTIMEZONE
TZID:Europe/Zurich
BEGIN:DAYLIGHT
TZOFFSETFROM:+0100
TZOFFSETTO:+0200
TZNAME:CEST
DTSTART:20170326T010000
END:DAYLIGHT
BEGIN:STANDARD
TZOFFSETFROM:+0200
TZOFFSETTO:+0100
TZNAME:CET
DTSTART:20171029T010000
END:STANDARD
BEGIN:DAYLIGHT
TZOFFSETFROM:+0100
TZOFFSETTO:+0200
TZNAME:CEST
DTSTART:20180325T010000
END:DAYLIGHT
BEGIN:STANDARD
TZOFFSETFROM:+0200
TZOFFSETTO:+0100
TZNAME:CET
DTSTART:20181028T010000
END:STANDARD
BEGIN:DAYLIGHT
TZOFFSETFROM:+0100
TZOFFSETTO:+0200
TZNAME:CEST
DTSTART:20190331T010000
END:DAYLIGHT
BEGIN:STANDARD
TZOFFSETFROM:+0200
TZOFFSETTO:+0100
TZNAME:CET
DTSTART:20191027T010000
END:STANDARD
END:VTIMEZONE
BEGIN:VEVENT
DTSTART;VALUE=DATE:20180918
DTEND;VALUE=DATE:20180919
DTSTAMP:20260426T032557
CREATED:20180901T145735Z
LAST-MODIFIED:20180901T193357Z
UID:19847-1537228800-1537315199@www.vadrouilles.ch
SUMMARY:Grime\, zèle et train
DESCRIPTION:Allez on teste la vadrouille en train !\nVoici une proposition élaborée pour mon amie Françoise 🙂 et si vous désirez vous joindre à nous\, bah… contactez-moi. \nElle est accessible à toutes personnes qui aiment le train\, on va y passer un certain nombre d’heure. L’horaire est donné au départ de Lausanne mais si vous êtes intéressés\, vous pouvez me contacter pour que je vous prépare un horaire depuis la gare de votre choix. \nAu menu le MOB panoramic\, gorges de l’Aar et col du Grimsel avec retour par la Vallée de Conche et la Vallée du Rhône. \n06:03 Neuchâtel Voie 3 –> Voie 3 07:11 Montreux \n07:17 Lausanne Voie 3 –> Voie 3 07:38 Montreux \n06:58 Bex Pont Neuf –> Voie 1 07:34 Montreux \nRendez-vous pour tous 07:40 sur la Voie 5 à Montreux\nDépart du train 07:44 \n07:44 Montreux Voie 5 –>Voie 8 09:32 Zweissimmen \nchangement 6 minutes \n09:38 Zweissimmen  Voie 12 –> Voie 5 10:19 Spiez \nchangement 14 min \n10:33 Spiez Voie 1 –> Voie 7 10:57 Interlaken Ost \nchangement 7 min \n11:04 Interlaken Ost Voie 4 –> Voie 1 10:36 Meiringen \nchangement 10 min \n11:45 Meiringen 11:45 Voie 13 –> 11:49 Aareschlucht West \n60 min de marche dans les gorges de l’Aar de l’entrée Ouest à l’entrée Est (entrée payante) temps à disposition : 1h44 \nLes personnes qui ne peuvent pas marcher font une pause à Meiringen. Puis reprennent le bus 161 direction Oberwald à 13:25 \n13:33 Aareschlucht Ost (Bus direction Oberwald) –> 14:29 Grimsel passhöhe \n2 heures de pause et de balades \n16:34 Grimsel Passhöhe (Bus direction Oberwald)  –> 17:00 Oberwald \n17:12 Oberwald –> 18:33 Brig \n18:58 Brig –> 20:38 Lausanne \nSi on n’a pas d’Abonnement général\, il faut se munir d’une carte journalière. Un supplément de 5.- est à prévoir pour le bus du Grismel et l’entrée des gorges est environ 8.- \nOn prend pique-nique\, boisson\, bonne humeur 🙂 et une bonne veste\, le sommet du Grismel peut être très frais et on y sera pendant plus de 2heures. On essaie\, on verra\, c’est l’aventure. ! C’est un test pas une offre guide pro 😉 \n2
URL:https://www.vadrouilles.ch/madelonade/journee-en-train/
ATTACH;FMTTYPE=image/jpeg:https://www.vadrouilles.ch/wp-content/uploads/2016/07/wp-image-647845477jpg.jpeg
END:VEVENT
END:VCALENDAR