BEGIN:VCALENDAR
VERSION:2.0
PRODID:-//A pedibus - ECPv6.15.20//NONSGML v1.0//EN
CALSCALE:GREGORIAN
METHOD:PUBLISH
X-WR-CALNAME:A pedibus
X-ORIGINAL-URL:https://www.vadrouilles.ch
X-WR-CALDESC:Évènements pour A pedibus
REFRESH-INTERVAL;VALUE=DURATION:PT1H
X-Robots-Tag:noindex
X-PUBLISHED-TTL:PT1H
BEGIN:VTIMEZONE
TZID:Europe/Zurich
BEGIN:DAYLIGHT
TZOFFSETFROM:+0100
TZOFFSETTO:+0200
TZNAME:CEST
DTSTART:20170326T010000
END:DAYLIGHT
BEGIN:STANDARD
TZOFFSETFROM:+0200
TZOFFSETTO:+0100
TZNAME:CET
DTSTART:20171029T010000
END:STANDARD
BEGIN:DAYLIGHT
TZOFFSETFROM:+0100
TZOFFSETTO:+0200
TZNAME:CEST
DTSTART:20180325T010000
END:DAYLIGHT
BEGIN:STANDARD
TZOFFSETFROM:+0200
TZOFFSETTO:+0100
TZNAME:CET
DTSTART:20181028T010000
END:STANDARD
BEGIN:DAYLIGHT
TZOFFSETFROM:+0100
TZOFFSETTO:+0200
TZNAME:CEST
DTSTART:20190331T010000
END:DAYLIGHT
BEGIN:STANDARD
TZOFFSETFROM:+0200
TZOFFSETTO:+0100
TZNAME:CET
DTSTART:20191027T010000
END:STANDARD
END:VTIMEZONE
BEGIN:VEVENT
DTSTART;VALUE=DATE:20181016
DTEND;VALUE=DATE:20181021
DTSTAMP:20260426T041816
CREATED:20180925T175530Z
LAST-MODIFIED:20181013T200123Z
UID:19911-1539648000-1540079999@www.vadrouilles.ch
SUMMARY:Terres fribourgeoises : Bulle - Neuchâtel
DESCRIPTION:Du mardi 16 octobre au samedi 20 octobre 2018 : Bulle – Neuchâtel\n \nNos rendez-vous (avec vos dons de chaussettes\, gants\, bonnets\, écharpes) \n\nmardi 16 octobre : 09.15 gare de Bulle\nmercredi 17 octobre : 08:45 Vuistenens en Ogoz\njeudi 18 octobre : 08:45 Fribourg\nvendredi 19 octobre : 09:00 Grolley\nsamedi 20 octobre : 09:30 Avenches\n\nSamedi 20 octobre dès 15:00 au Débarcadaire de Neuchâtel : point de collecte (pour vos dons de couvertures\, sacs de couchage\, veste chaude  etc ) Merci d’annoncer votre participation à chaussettes@a-cube.ch \nJe passe également dans les villages suivants (mais ne peux donner d’heure précise) merci de me contacter le matin même au 079 792 54 82 que je vous tienne au courant de l’avancement de mes pas si vous désirez m’interpeler chemin faisant ou à mon étape d’arrivée. \nFarvagny\,  Ecuvillens Villars-sur-Glâne (le 16) –  Olleyres\, Donatyre (le 19) \n2
URL:https://www.vadrouilles.ch/madelonade/terres-fribourgeoises-bulle-neuchatel-cudrefin/
ATTACH;FMTTYPE=image/jpeg:https://www.vadrouilles.ch/wp-content/uploads/2017/10/20171012_173544370081090.jpg
END:VEVENT
END:VCALENDAR