BEGIN:VCALENDAR
VERSION:2.0
PRODID:-//A pedibus - ECPv6.15.20//NONSGML v1.0//EN
CALSCALE:GREGORIAN
METHOD:PUBLISH
X-ORIGINAL-URL:https://www.vadrouilles.ch
X-WR-CALDESC:Évènements pour A pedibus
REFRESH-INTERVAL;VALUE=DURATION:PT1H
X-Robots-Tag:noindex
X-PUBLISHED-TTL:PT1H
BEGIN:VTIMEZONE
TZID:Europe/Zurich
BEGIN:DAYLIGHT
TZOFFSETFROM:+0100
TZOFFSETTO:+0200
TZNAME:CEST
DTSTART:20170326T010000
END:DAYLIGHT
BEGIN:STANDARD
TZOFFSETFROM:+0200
TZOFFSETTO:+0100
TZNAME:CET
DTSTART:20171029T010000
END:STANDARD
BEGIN:DAYLIGHT
TZOFFSETFROM:+0100
TZOFFSETTO:+0200
TZNAME:CEST
DTSTART:20180325T010000
END:DAYLIGHT
BEGIN:STANDARD
TZOFFSETFROM:+0200
TZOFFSETTO:+0100
TZNAME:CET
DTSTART:20181028T010000
END:STANDARD
BEGIN:DAYLIGHT
TZOFFSETFROM:+0100
TZOFFSETTO:+0200
TZNAME:CEST
DTSTART:20190331T010000
END:DAYLIGHT
BEGIN:STANDARD
TZOFFSETFROM:+0200
TZOFFSETTO:+0100
TZNAME:CET
DTSTART:20191027T010000
END:STANDARD
END:VTIMEZONE
BEGIN:VEVENT
DTSTART;VALUE=DATE:20181212
DTEND;VALUE=DATE:20181213
DTSTAMP:20260425T234736
CREATED:20181118T002801Z
LAST-MODIFIED:20181209T112643Z
UID:20133-1544572800-1544659199@www.vadrouilles.ch
SUMMARY:Pampigny - La Sarraz
DESCRIPTION:Qu’est-ce que Rando Chaussettes ? \nNos rendez-vous (avec vos dons de chaussettes\, gants\, bonnets\, écharpes) \n\nDépart Pampigny-Sévery mercredi 12 décembre: 09:35\nArrivée La Sarraz dès 15:00 en fonction du chemin (me contacter 079 792 54 82)\n\n  \n  \n  \n  \n2
URL:https://www.vadrouilles.ch/madelonade/pampigny-la-sarraz/
ATTACH;FMTTYPE=image/jpeg:https://www.vadrouilles.ch/wp-content/uploads/2016/03/20160311_155025.jpg
END:VEVENT
END:VCALENDAR