BEGIN:VCALENDAR
VERSION:2.0
PRODID:-//A pedibus - ECPv6.15.20//NONSGML v1.0//EN
CALSCALE:GREGORIAN
METHOD:PUBLISH
X-WR-CALNAME:A pedibus
X-ORIGINAL-URL:https://www.vadrouilles.ch
X-WR-CALDESC:Évènements pour A pedibus
REFRESH-INTERVAL;VALUE=DURATION:PT1H
X-Robots-Tag:noindex
X-PUBLISHED-TTL:PT1H
BEGIN:VTIMEZONE
TZID:Europe/Zurich
BEGIN:DAYLIGHT
TZOFFSETFROM:+0100
TZOFFSETTO:+0200
TZNAME:CEST
DTSTART:20170326T010000
END:DAYLIGHT
BEGIN:STANDARD
TZOFFSETFROM:+0200
TZOFFSETTO:+0100
TZNAME:CET
DTSTART:20171029T010000
END:STANDARD
BEGIN:DAYLIGHT
TZOFFSETFROM:+0100
TZOFFSETTO:+0200
TZNAME:CEST
DTSTART:20180325T010000
END:DAYLIGHT
BEGIN:STANDARD
TZOFFSETFROM:+0200
TZOFFSETTO:+0100
TZNAME:CET
DTSTART:20181028T010000
END:STANDARD
BEGIN:DAYLIGHT
TZOFFSETFROM:+0100
TZOFFSETTO:+0200
TZNAME:CEST
DTSTART:20190331T010000
END:DAYLIGHT
BEGIN:STANDARD
TZOFFSETFROM:+0200
TZOFFSETTO:+0100
TZNAME:CET
DTSTART:20191027T010000
END:STANDARD
END:VTIMEZONE
BEGIN:VEVENT
DTSTART;VALUE=DATE:20181225
DTEND;VALUE=DATE:20181226
DTSTAMP:20260425T182219
CREATED:20181206T135208Z
LAST-MODIFIED:20181206T135208Z
UID:20181-1545696000-1545782399@www.vadrouilles.ch
SUMMARY:Vadrouille de Noël
DESCRIPTION:Noël à s’étouffer ? Noon pas… Allez viens marcher ! \nRendez-vous en haut du funiculaire du Mont Pèlerin : 10:00 \nD’où nous rejoindrons le vignoble de Lavaux pour longer le lac jusqu’à Cully. Voir l’intinéraire \nCet itinéraire offre plusieurs possibilités d’écourter la vadrouille pour ceux qui la trouveraient trop longue en rejoignant la ligne de transports publics passant à proximité. \n2
URL:https://www.vadrouilles.ch/madelonade/vadrouille-de-noel-2/
ATTACH;FMTTYPE=image/jpeg:https://www.vadrouilles.ch/wp-content/uploads/2018/01/20180123_135729732842597.jpg
END:VEVENT
END:VCALENDAR