BEGIN:VCALENDAR
VERSION:2.0
PRODID:-//A pedibus - ECPv6.15.20//NONSGML v1.0//EN
CALSCALE:GREGORIAN
METHOD:PUBLISH
X-WR-CALNAME:A pedibus
X-ORIGINAL-URL:https://www.vadrouilles.ch
X-WR-CALDESC:Évènements pour A pedibus
REFRESH-INTERVAL;VALUE=DURATION:PT1H
X-Robots-Tag:noindex
X-PUBLISHED-TTL:PT1H
BEGIN:VTIMEZONE
TZID:Europe/Zurich
BEGIN:DAYLIGHT
TZOFFSETFROM:+0100
TZOFFSETTO:+0200
TZNAME:CEST
DTSTART:20180325T010000
END:DAYLIGHT
BEGIN:STANDARD
TZOFFSETFROM:+0200
TZOFFSETTO:+0100
TZNAME:CET
DTSTART:20181028T010000
END:STANDARD
BEGIN:DAYLIGHT
TZOFFSETFROM:+0100
TZOFFSETTO:+0200
TZNAME:CEST
DTSTART:20190331T010000
END:DAYLIGHT
BEGIN:STANDARD
TZOFFSETFROM:+0200
TZOFFSETTO:+0100
TZNAME:CET
DTSTART:20191027T010000
END:STANDARD
BEGIN:DAYLIGHT
TZOFFSETFROM:+0100
TZOFFSETTO:+0200
TZNAME:CEST
DTSTART:20200329T010000
END:DAYLIGHT
BEGIN:STANDARD
TZOFFSETFROM:+0200
TZOFFSETTO:+0100
TZNAME:CET
DTSTART:20201025T010000
END:STANDARD
END:VTIMEZONE
BEGIN:VEVENT
DTSTART;VALUE=DATE:20190103
DTEND;VALUE=DATE:20190104
DTSTAMP:20260425T222600
CREATED:20181229T180303Z
LAST-MODIFIED:20181229T180403Z
UID:20210-1546473600-1546559999@www.vadrouilles.ch
SUMMARY:Vadrouille d'hiver
DESCRIPTION:Rendez-vous : 10:35 Bus Gstaad\, Wispile \nOn prendra une télécabine pour trouver le sommet du Wispile à plus de 1900m d’altitude. Ensuite en suivant un chemin de neige tassé et balisé nous rejoindrons Gsteigs\, post et nous rentrerons en bus jusqu’aux Diablerets et en train jusqu’à Aigle. \nIl nous faudra supporter quelques skieurs sur une partie du chemin mais la vue devrait en valoir la peine. \nVoici le lien de la description de cette offre SuisseMobile \nSi vous avez une voiture\, il est conseillé de la laisser à Aigle où aux Diablerets puis de prendre un bus pour passer le col du Pillon jusqu’à Gstaad\, arrêt Wispile\, ou encore à Gsteig\, post et de prendre le bus jusqu’à Gstaad \n2
URL:https://www.vadrouilles.ch/madelonade/vadrouille-dhiver/
ATTACH;FMTTYPE=image/jpeg:https://www.vadrouilles.ch/wp-content/uploads/2018/12/csm_Wispile_Rundweg_02_46dddf6083.jpg
END:VEVENT
END:VCALENDAR