BEGIN:VCALENDAR
VERSION:2.0
PRODID:-//A pedibus - ECPv6.15.20//NONSGML v1.0//EN
CALSCALE:GREGORIAN
METHOD:PUBLISH
X-ORIGINAL-URL:https://www.vadrouilles.ch
X-WR-CALDESC:Évènements pour A pedibus
REFRESH-INTERVAL;VALUE=DURATION:PT1H
X-Robots-Tag:noindex
X-PUBLISHED-TTL:PT1H
BEGIN:VTIMEZONE
TZID:Europe/Zurich
BEGIN:DAYLIGHT
TZOFFSETFROM:+0100
TZOFFSETTO:+0200
TZNAME:CEST
DTSTART:20180325T010000
END:DAYLIGHT
BEGIN:STANDARD
TZOFFSETFROM:+0200
TZOFFSETTO:+0100
TZNAME:CET
DTSTART:20181028T010000
END:STANDARD
BEGIN:DAYLIGHT
TZOFFSETFROM:+0100
TZOFFSETTO:+0200
TZNAME:CEST
DTSTART:20190331T010000
END:DAYLIGHT
BEGIN:STANDARD
TZOFFSETFROM:+0200
TZOFFSETTO:+0100
TZNAME:CET
DTSTART:20191027T010000
END:STANDARD
BEGIN:DAYLIGHT
TZOFFSETFROM:+0100
TZOFFSETTO:+0200
TZNAME:CEST
DTSTART:20200329T010000
END:DAYLIGHT
BEGIN:STANDARD
TZOFFSETFROM:+0200
TZOFFSETTO:+0100
TZNAME:CET
DTSTART:20201025T010000
END:STANDARD
END:VTIMEZONE
BEGIN:VEVENT
DTSTART;VALUE=DATE:20190106
DTEND;VALUE=DATE:20190107
DTSTAMP:20260425T133023
CREATED:20181229T191224Z
LAST-MODIFIED:20190103T180554Z
UID:20213-1546732800-1546819199@www.vadrouilles.ch
SUMMARY:Montreux - Glion
DESCRIPTION:Rendez-vous 11:20 Gare de Montreux (bas des escalators) \nVoici le parcours prévu \nSuivant la météo nous monterons au-dessus du Lac par les Gorges du Chaudron ou alors en milieu plus urbain et plus ouvert jusquà Chenex\, puis nous nous trouverons dans les deux cas dans la forêt en haut des gorges et 20 minutes plus tard nous espérons la vue superbe. Nous rejoindrons le funiculaire de Glion pour retrouver sans effort le bord du lac. Peut être qu’il y aura des amateurs de château pour aller faire un tour dans celui de Chillon ? A voir l’envie du moment. \n2
URL:https://www.vadrouilles.ch/madelonade/montreux-glion/
ATTACH;FMTTYPE=image/jpeg:https://www.vadrouilles.ch/wp-content/uploads/2018/12/31257205.jpg
END:VEVENT
END:VCALENDAR