BEGIN:VCALENDAR
VERSION:2.0
PRODID:-//A pedibus - ECPv6.15.20//NONSGML v1.0//EN
CALSCALE:GREGORIAN
METHOD:PUBLISH
X-ORIGINAL-URL:https://www.vadrouilles.ch
X-WR-CALDESC:Évènements pour A pedibus
REFRESH-INTERVAL;VALUE=DURATION:PT1H
X-Robots-Tag:noindex
X-PUBLISHED-TTL:PT1H
BEGIN:VTIMEZONE
TZID:Europe/Zurich
BEGIN:DAYLIGHT
TZOFFSETFROM:+0100
TZOFFSETTO:+0200
TZNAME:CEST
DTSTART:20180325T010000
END:DAYLIGHT
BEGIN:STANDARD
TZOFFSETFROM:+0200
TZOFFSETTO:+0100
TZNAME:CET
DTSTART:20181028T010000
END:STANDARD
BEGIN:DAYLIGHT
TZOFFSETFROM:+0100
TZOFFSETTO:+0200
TZNAME:CEST
DTSTART:20190331T010000
END:DAYLIGHT
BEGIN:STANDARD
TZOFFSETFROM:+0200
TZOFFSETTO:+0100
TZNAME:CET
DTSTART:20191027T010000
END:STANDARD
BEGIN:DAYLIGHT
TZOFFSETFROM:+0100
TZOFFSETTO:+0200
TZNAME:CEST
DTSTART:20200329T010000
END:DAYLIGHT
BEGIN:STANDARD
TZOFFSETFROM:+0200
TZOFFSETTO:+0100
TZNAME:CET
DTSTART:20201025T010000
END:STANDARD
END:VTIMEZONE
BEGIN:VEVENT
DTSTART;VALUE=DATE:20190127
DTEND;VALUE=DATE:20190128
DTSTAMP:20260425T233448
CREATED:20181231T173455Z
LAST-MODIFIED:20181231T174154Z
UID:20218-1548547200-1548633599@www.vadrouilles.ch
SUMMARY:Tour aux Grangettes
DESCRIPTION:Départ à : 10:40 Gare de Villeneuve \nUn petit tour dans les Grangettes au départ de Villeneuve pour cette petite vadrouille jusqu’au Bouveret. \nDécouvrez le parcours ici\, il est facile\, plat et pour tout le monde. \n2
URL:https://www.vadrouilles.ch/madelonade/tour-aux-grangettes/
ATTACH;FMTTYPE=image/jpeg:https://www.vadrouilles.ch/wp-content/uploads/2016/03/20160314_103139-1.jpg
END:VEVENT
END:VCALENDAR