BEGIN:VCALENDAR
VERSION:2.0
PRODID:-//A pedibus - ECPv6.15.20//NONSGML v1.0//EN
CALSCALE:GREGORIAN
METHOD:PUBLISH
X-ORIGINAL-URL:https://www.vadrouilles.ch
X-WR-CALDESC:Évènements pour A pedibus
REFRESH-INTERVAL;VALUE=DURATION:PT1H
X-Robots-Tag:noindex
X-PUBLISHED-TTL:PT1H
BEGIN:VTIMEZONE
TZID:Europe/Zurich
BEGIN:DAYLIGHT
TZOFFSETFROM:+0100
TZOFFSETTO:+0200
TZNAME:CEST
DTSTART:20180325T010000
END:DAYLIGHT
BEGIN:STANDARD
TZOFFSETFROM:+0200
TZOFFSETTO:+0100
TZNAME:CET
DTSTART:20181028T010000
END:STANDARD
BEGIN:DAYLIGHT
TZOFFSETFROM:+0100
TZOFFSETTO:+0200
TZNAME:CEST
DTSTART:20190331T010000
END:DAYLIGHT
BEGIN:STANDARD
TZOFFSETFROM:+0200
TZOFFSETTO:+0100
TZNAME:CET
DTSTART:20191027T010000
END:STANDARD
BEGIN:DAYLIGHT
TZOFFSETFROM:+0100
TZOFFSETTO:+0200
TZNAME:CEST
DTSTART:20200329T010000
END:DAYLIGHT
BEGIN:STANDARD
TZOFFSETFROM:+0200
TZOFFSETTO:+0100
TZNAME:CET
DTSTART:20201025T010000
END:STANDARD
END:VTIMEZONE
BEGIN:VEVENT
DTSTART;VALUE=DATE:20190129
DTEND;VALUE=DATE:20190130
DTSTAMP:20260425T133114
CREATED:20190102T130712Z
LAST-MODIFIED:20190127T184913Z
UID:20233-1548720000-1548806399@www.vadrouilles.ch
SUMMARY:Tout pour des lentilles !
DESCRIPTION:Tout pour des lentilles suisses ! \nChangement de parcours à cause de la neige \nDépart de Six-Fontaines à 10:06 \nSix-Fontaines – Romainmôtier clic pour le parcours \nC’est l’occasion de faire ses courses en fin de vadrouille dans un petit self service qui n’a que des produits régionaux. On y trouve des lentilles régionales\, des farines\, des pains\, des sirops…  Le parcours se termine Romainmôtier qui connait une des meilleures boulangeries de la région. \nArticle de 24H  \n  \n  \n2
URL:https://www.vadrouilles.ch/madelonade/tout-pour-des-lentilles/
ATTACH;FMTTYPE=image/jpeg:https://www.vadrouilles.ch/wp-content/uploads/2019/01/unspecified.jpg
END:VEVENT
END:VCALENDAR