BEGIN:VCALENDAR
VERSION:2.0
PRODID:-//A pedibus - ECPv6.15.20//NONSGML v1.0//EN
CALSCALE:GREGORIAN
METHOD:PUBLISH
X-ORIGINAL-URL:https://www.vadrouilles.ch
X-WR-CALDESC:Évènements pour A pedibus
REFRESH-INTERVAL;VALUE=DURATION:PT1H
X-Robots-Tag:noindex
X-PUBLISHED-TTL:PT1H
BEGIN:VTIMEZONE
TZID:Europe/Zurich
BEGIN:DAYLIGHT
TZOFFSETFROM:+0100
TZOFFSETTO:+0200
TZNAME:CEST
DTSTART:20170326T010000
END:DAYLIGHT
BEGIN:STANDARD
TZOFFSETFROM:+0200
TZOFFSETTO:+0100
TZNAME:CET
DTSTART:20171029T010000
END:STANDARD
BEGIN:DAYLIGHT
TZOFFSETFROM:+0100
TZOFFSETTO:+0200
TZNAME:CEST
DTSTART:20180325T010000
END:DAYLIGHT
BEGIN:STANDARD
TZOFFSETFROM:+0200
TZOFFSETTO:+0100
TZNAME:CET
DTSTART:20181028T010000
END:STANDARD
BEGIN:DAYLIGHT
TZOFFSETFROM:+0100
TZOFFSETTO:+0200
TZNAME:CEST
DTSTART:20190331T010000
END:DAYLIGHT
BEGIN:STANDARD
TZOFFSETFROM:+0200
TZOFFSETTO:+0100
TZNAME:CET
DTSTART:20191027T010000
END:STANDARD
END:VTIMEZONE
BEGIN:VEVENT
DTSTART;VALUE=DATE:20180902
DTEND;VALUE=DATE:20180903
DTSTAMP:20260426T021455
CREATED:20180829T141059Z
LAST-MODIFIED:20180829T143732Z
UID:19839-1535846400-1535932799@www.vadrouilles.ch
SUMMARY:Lentilles de bretonnes hier et bains de la Sarah aujourd'hui
DESCRIPTION:Départ de Bretonnières : 10:35 \nCe titre est un énigme qui une fois résolue vous permettrait de comprendre le programme. Mais comme je reconnais que mon esprit compliqué ne rend pas les énigmes limpides je vais vous raconter le topo 🙂 \nA Bretonnières se tient une petite boutique sympathique où nous pourrons acheter des lentilles cultivées dans la région. Ainsi que plusieurs produits dérivés comme de la farine de lentilles. C’est une aubaine pour ceux qui cherchent à augmenter leurs apports en protéines végétales tout en consommant local ! Prenez donc un sac qui a un peu plus de place qu’il n’en a besoin pour votre pique-nique du jour et vos habits contre la pluie que vous puissiez y glisser vos achats. Et de la monnaie aussi car cette boutique sans vendeur ni vendeuse a une petite caissette. \nEnsuite nous irons à Romainmôtier (environ 1h30 à plat en bordure de forêt) où nous pourrons déguster une bonne tarte maison. Malheureusement nous ne pourrons pas visiter l’abbatiale car il sera encore l’heure du culte mais nous goûterons à l’atmosphère du lieu qui requinque autant que la tarte de la maison du prieur. \nPuis nous irons chercher le frais dans les gorges du Nozon\, voir si la cascade du Dard à encore un peu d’eau avant de rejoindre en deux petites heures la piscine de La Sarraz pour piquer une tête. et faire plaisir aux enfants. Celles et ceux qui le désirerons pourrons zapper l’agitation des bains et rejoindre seuls la gare de La Sarraz. \nVoici le parcours\, les temps de marche officiels et les dénivelés. \nCette vadrouille est facile et convient très bien aux enfants. Je la fais avec ma petite fille qui a 8 ans et qui sera heureuse de la faire avec de la compagnie. \nA bientôt j’espère ! N’oubliez pas les affaires de piscines 😉 \nLa magnifique fontaine que nous Croyserons entre Romainmôtier et La Sarraz \n \n  \n2
URL:https://www.vadrouilles.ch/madelonade/aujourdhui-bains-de-la-sarraz-et-les-lentilles-bretonnes-hier/
ATTACH;FMTTYPE=image/jpeg:https://www.vadrouilles.ch/wp-content/uploads/2017/03/20170301_093942.jpg
END:VEVENT
BEGIN:VEVENT
DTSTART;VALUE=DATE:20180909
DTEND;VALUE=DATE:20180910
DTSTAMP:20260426T021455
CREATED:20180829T152335Z
LAST-MODIFIED:20180829T152335Z
UID:19842-1536451200-1536537599@www.vadrouilles.ch
SUMMARY:Les Grands Plans d'Arpette
DESCRIPTION:Départ Champex\, télé : 09:20 \nUne belle descente nous attend pour rejoindre dans un premier temps de Vallon d’Arpette avec peut être une tarte à la myrtille pour le désert. Mais avant ça il faudra prendre le long et impressionnant télésiège de la Breya. \nAu bord du lac Champex\, il y a une grande place de jeux pour détendre les enfants (et peut être crisper un peu nos oreilles) ou alors nous irons faire un tour de barque… on verra bien l’envie du moment. \nPour retrouver la plaine\, nous prendrons un bus vers 15:50 à Champex-Lac ou alors celui de 17:18 au plus tard pour ne pas être de retour trop tard. \nSi le temps s’y prête on peut faire trempette dans le lac mais en septembre la météo devient capricieuse. \nC’est une vadrouille assez facile\, mais il y a quand même 700m de dénivelé de descente\, et bien que la pente soit assez douce certains genoux rechignent… \nVoici les détails du profils\, les temps de marche officiels et le tracé choisi. \nLac Champex \n \n  \n2
URL:https://www.vadrouilles.ch/madelonade/les-grands-plans-darpette/
ATTACH;FMTTYPE=image/jpeg:https://www.vadrouilles.ch/wp-content/uploads/2016/07/wp-image-1063831742jpg.jpeg
END:VEVENT
BEGIN:VEVENT
DTSTART;VALUE=DATE:20180914
DTEND;VALUE=DATE:20180916
DTSTAMP:20260426T021455
CREATED:20180601T143012Z
LAST-MODIFIED:20180901T200557Z
UID:19717-1536883200-1537055999@www.vadrouilles.ch
SUMMARY:Napf féérique
DESCRIPTION:(Lausanne 07:20) départ de Entelbuch 09:34 \nJour 1 : Entelbuch – Napf \nJour 2 : Napf – Trubschachen \n  \nDeux belles journées si la météo est de notre côté. \n2
URL:https://www.vadrouilles.ch/madelonade/napf-feerique/
ATTACH;FMTTYPE=image/jpeg:https://www.vadrouilles.ch/wp-content/uploads/2016/10/wp-image-379675987jpg.jpg
END:VEVENT
BEGIN:VEVENT
DTSTART;VALUE=DATE:20180918
DTEND;VALUE=DATE:20180919
DTSTAMP:20260426T021455
CREATED:20180901T145735Z
LAST-MODIFIED:20180901T193357Z
UID:19847-1537228800-1537315199@www.vadrouilles.ch
SUMMARY:Grime\, zèle et train
DESCRIPTION:Allez on teste la vadrouille en train !\nVoici une proposition élaborée pour mon amie Françoise 🙂 et si vous désirez vous joindre à nous\, bah… contactez-moi. \nElle est accessible à toutes personnes qui aiment le train\, on va y passer un certain nombre d’heure. L’horaire est donné au départ de Lausanne mais si vous êtes intéressés\, vous pouvez me contacter pour que je vous prépare un horaire depuis la gare de votre choix. \nAu menu le MOB panoramic\, gorges de l’Aar et col du Grimsel avec retour par la Vallée de Conche et la Vallée du Rhône. \n06:03 Neuchâtel Voie 3 –> Voie 3 07:11 Montreux \n07:17 Lausanne Voie 3 –> Voie 3 07:38 Montreux \n06:58 Bex Pont Neuf –> Voie 1 07:34 Montreux \nRendez-vous pour tous 07:40 sur la Voie 5 à Montreux\nDépart du train 07:44 \n07:44 Montreux Voie 5 –>Voie 8 09:32 Zweissimmen \nchangement 6 minutes \n09:38 Zweissimmen  Voie 12 –> Voie 5 10:19 Spiez \nchangement 14 min \n10:33 Spiez Voie 1 –> Voie 7 10:57 Interlaken Ost \nchangement 7 min \n11:04 Interlaken Ost Voie 4 –> Voie 1 10:36 Meiringen \nchangement 10 min \n11:45 Meiringen 11:45 Voie 13 –> 11:49 Aareschlucht West \n60 min de marche dans les gorges de l’Aar de l’entrée Ouest à l’entrée Est (entrée payante) temps à disposition : 1h44 \nLes personnes qui ne peuvent pas marcher font une pause à Meiringen. Puis reprennent le bus 161 direction Oberwald à 13:25 \n13:33 Aareschlucht Ost (Bus direction Oberwald) –> 14:29 Grimsel passhöhe \n2 heures de pause et de balades \n16:34 Grimsel Passhöhe (Bus direction Oberwald)  –> 17:00 Oberwald \n17:12 Oberwald –> 18:33 Brig \n18:58 Brig –> 20:38 Lausanne \nSi on n’a pas d’Abonnement général\, il faut se munir d’une carte journalière. Un supplément de 5.- est à prévoir pour le bus du Grismel et l’entrée des gorges est environ 8.- \nOn prend pique-nique\, boisson\, bonne humeur 🙂 et une bonne veste\, le sommet du Grismel peut être très frais et on y sera pendant plus de 2heures. On essaie\, on verra\, c’est l’aventure. ! C’est un test pas une offre guide pro 😉 \n2
URL:https://www.vadrouilles.ch/madelonade/journee-en-train/
ATTACH;FMTTYPE=image/jpeg:https://www.vadrouilles.ch/wp-content/uploads/2016/07/wp-image-647845477jpg.jpeg
END:VEVENT
BEGIN:VEVENT
DTSTART;TZID=Europe/Zurich:20180923T080000
DTEND;TZID=Europe/Zurich:20180923T170000
DTSTAMP:20260426T021455
CREATED:20180924T011916Z
LAST-MODIFIED:20180924T011916Z
UID:19905-1537689600-1537722000@www.vadrouilles.ch
SUMMARY:Traversée du Plateau
DESCRIPTION:Explications Rando Chaussettes 2018 \nDu lundi 15 octobre au dimanche 21 octobre : Bulle – Neuchâtel \nNos rendez-vous: \n\n16 octobre : 09:10 Bulle\n17 octobre : 09:45 Vuistenens-en-Ogoz\, Croisée\n18 octobre : : 10:10 Fribourg\n19 octobre : 09:30 Grolley\n20 Avenches :\n21 octobre : Arrivée à Neuchâtel\n\n2
URL:https://www.vadrouilles.ch/madelonade/traversee-du-plateau/
END:VEVENT
BEGIN:VEVENT
DTSTART;VALUE=DATE:20180927
DTEND;VALUE=DATE:20181007
DTSTAMP:20260426T021455
CREATED:20180919T203328Z
LAST-MODIFIED:20180929T193417Z
UID:19878-1538006400-1538870399@www.vadrouilles.ch
SUMMARY:Vallée du Rhône : La Sage - Ollon
DESCRIPTION:Du Jeudi 27 septembre au samedi 06 octobre 2018 : La Sage – Ollon\n \nPour vos dons et nos rendez-vous me contacter sur chaussettes@a-cube.ch \nNos rendez-vous (avec vos dons de chaussettes\, gants\, bonnets\, écharpes) \n\njeudi 27 septembre La Sage\, village 09:35\nvendredi 28 septembre GROS CHANGEMENT : le chemin entre Evolène et St-Martin était détruit et j’ai du changé de côté de Vallée. Pas de rendez-vous à Mase mais à Euseigne\, Grangette 09:00\nsamedi 29 septembre St-Léonard\, gare 09:10\nsamedi 29 septembre\, Sion\, devant la piscine vers 10:45 (annoncez-vous svp)\ndimanche 30 septembre*\, Chamoson (gare CFF) 10:05)\nSi vous désirez simplement joindre vos pas aux miens vous pouvez me rejoindre à la gare de Chamoson. C’est un petit parcours. \n\nDimanche 30 septembre dès 15:00 à la gare de Saxon : point de collecte (pour vos dons de couvertures\, sacs de couchage\, veste chaude  etc ) Merci d’annoncer votre participation à chaussettes@a-cube.ch \n\nmardi 2 octobre\, Saxon gare\, 08:30\nvendredi 5 octobre\, Martigny gare\, 08:10\nsamedi 6 octobre\, St-Maurice gare\, 08:30\n\nSamedi 6 octobre dès 15:00 à la gare d’Ollon : point de collecte (pour vos dons de couvertures\, sacs de couchage\, veste chaude  etc ) Merci d’annoncer votre participation à chaussettes@a-cube.ch \nJe passe également dans les villages suivants (mais ne peut donner d’heure précise) merci de me contacter le matin même au 079 792 54 82 que je vous tienne au courant de l’avancement de mes pas si vous désirez m’interpeler chemin faisant ou à mon étape d’arrivée. \nLa Sage – Evolène – Euseigne (le 27)\nVex – Bramois – Grône – Grône – Flanthey – St-Léonard (le 28)\nSion piscine\, Plan Conthey – Magnot – Ardon – St-Pierre de Clage (le 29)\nChamoson\, gare – Riddes – Saxon (le 30)\nSaxon – Charrat-les-Chênes – Martigny Bourg – Martigny gare CFF (le 2.10)\nMartigny – Vernayaz – Mieville – Evionnaz – Les Emonets – St-Maurice (le 5)\nSt-Maurice – Bex – Les Dévens – Antagnes – Ollon (le 6) \nRando-Chaussettes 2018 : les explications \n  \n \n  \n2
URL:https://www.vadrouilles.ch/madelonade/valais-la-sage-st-maurice/
ATTACH;FMTTYPE=image/jpeg:https://www.vadrouilles.ch/wp-content/uploads/2015/10/wpid-20151009_132719.jpg
END:VEVENT
END:VCALENDAR