BEGIN:VCALENDAR
VERSION:2.0
PRODID:-//A pedibus - ECPv6.15.20//NONSGML v1.0//EN
CALSCALE:GREGORIAN
METHOD:PUBLISH
X-ORIGINAL-URL:https://www.vadrouilles.ch
X-WR-CALDESC:Évènements pour A pedibus
REFRESH-INTERVAL;VALUE=DURATION:PT1H
X-Robots-Tag:noindex
X-PUBLISHED-TTL:PT1H
BEGIN:VTIMEZONE
TZID:Europe/Zurich
BEGIN:DAYLIGHT
TZOFFSETFROM:+0100
TZOFFSETTO:+0200
TZNAME:CEST
DTSTART:20180325T010000
END:DAYLIGHT
BEGIN:STANDARD
TZOFFSETFROM:+0200
TZOFFSETTO:+0100
TZNAME:CET
DTSTART:20181028T010000
END:STANDARD
BEGIN:DAYLIGHT
TZOFFSETFROM:+0100
TZOFFSETTO:+0200
TZNAME:CEST
DTSTART:20190331T010000
END:DAYLIGHT
BEGIN:STANDARD
TZOFFSETFROM:+0200
TZOFFSETTO:+0100
TZNAME:CET
DTSTART:20191027T010000
END:STANDARD
BEGIN:DAYLIGHT
TZOFFSETFROM:+0100
TZOFFSETTO:+0200
TZNAME:CEST
DTSTART:20200329T010000
END:DAYLIGHT
BEGIN:STANDARD
TZOFFSETFROM:+0200
TZOFFSETTO:+0100
TZNAME:CET
DTSTART:20201025T010000
END:STANDARD
END:VTIMEZONE
BEGIN:VEVENT
DTSTART;VALUE=DATE:20190301
DTEND;VALUE=DATE:20190302
DTSTAMP:20260425T055420
CREATED:20190224T190239Z
LAST-MODIFIED:20190224T190239Z
UID:20310-1551398400-1551484799@www.vadrouilles.ch
SUMMARY:Montreux - Vevey par les hauts
DESCRIPTION:Départ de la gare de Montreux : 09:20 \nEt on va prendre de la hauteur Montreux – Vevey  \nL’idée et de trouver un peu d’ail des ours et voir où en sont les nivéoles dans les Gorges du Chaudron puis de profiter de la vue sur le Léman \n2
URL:https://www.vadrouilles.ch/madelonade/montreux-vevey-par-les-hauts/
ATTACH;FMTTYPE=image/jpeg:https://www.vadrouilles.ch/wp-content/uploads/2016/02/20160221_132301_1.jpg
END:VEVENT
BEGIN:VEVENT
DTSTART;VALUE=DATE:20190303
DTEND;VALUE=DATE:20190304
DTSTAMP:20260425T055420
CREATED:20190213T133102Z
LAST-MODIFIED:20190213T140600Z
UID:20289-1551571200-1551657599@www.vadrouilles.ch
SUMMARY:Venoge-Plage
DESCRIPTION:De Bussigny jusqu’à la Plage de Préverenges \nDépart de la gare de Bussigny 10:05 \nChemin parfois étroit mais sans pénibilité et plat dans le Pays de Jean Villars Gilles \n2
URL:https://www.vadrouilles.ch/madelonade/venoge-plage/
ATTACH;FMTTYPE=image/jpeg:https://www.vadrouilles.ch/wp-content/uploads/2016/02/20160229_115232.jpg
END:VEVENT
BEGIN:VEVENT
DTSTART;VALUE=DATE:20190305
DTEND;VALUE=DATE:20190306
DTSTAMP:20260425T055420
CREATED:20190302T213447Z
LAST-MODIFIED:20190302T213447Z
UID:20312-1551744000-1551830399@www.vadrouilles.ch
SUMMARY:Se faire berner par le Gurten
DESCRIPTION:Départ 10:00 de la gare de Berne \nLonger l’Aar dans la capitale\, monter sur la montagne de la capitale\, faire un petit tour dans la capitale. \nVoici le parcours choisi dans la partie de la Suisse qui annonce un petit rayon de soleil \n2
URL:https://www.vadrouilles.ch/madelonade/se-faire-berner-par-le-gurten/
ATTACH;FMTTYPE=image/jpeg:https://www.vadrouilles.ch/wp-content/uploads/2015/06/wpid-20150603_090442.jpg
END:VEVENT
BEGIN:VEVENT
DTSTART;VALUE=DATE:20190308
DTEND;VALUE=DATE:20190309
DTSTAMP:20260425T055420
CREATED:20190213T162126Z
LAST-MODIFIED:20190213T202234Z
UID:20297-1552003200-1552089599@www.vadrouilles.ch
SUMMARY:Chemins nouveaux en terres connues
DESCRIPTION:Départ gare de Bavois 09:40 \nAnnoncez votre participation SVP mon train arrive à 09:16 (je ne voudrais pas attendre pour rien) \nC’est une région que j’ai déjà largement sillonnée alors j’essaie d’autres petits chemins\, pas toujours jaunes mais peut être très sympas.\nOn ira lécher le Mormont avec La Sarraz ( 😛 ) et passer le Milieu du Monde. On rejoindra ensuite le Vallon d’Envy pour savoir s’il fait son job (donner envie)\, on trouvera moyen de traverser deux fois le Nozon avant d’aller découvrir les étangs d’Arnex-sur-Orbe et de reprendre le train. Un parcours à découvrir donc\, si possible sans se perdre 🙂 \nBavois – Arnex 20km et 5:30 d’effort \n2
URL:https://www.vadrouilles.ch/madelonade/chemins-nouveaux-en-terres-connues/
ATTACH;FMTTYPE=image/jpeg:https://www.vadrouilles.ch/wp-content/uploads/2017/03/20170311_180101.jpg
END:VEVENT
BEGIN:VEVENT
DTSTART;VALUE=DATE:20190310
DTEND;VALUE=DATE:20190311
DTSTAMP:20260425T055420
CREATED:20190309T160344Z
LAST-MODIFIED:20190309T160344Z
UID:20333-1552176000-1552262399@www.vadrouilles.ch
SUMMARY:Vadrouille reportée
DESCRIPTION:La vadrouille du jour est annulée et reportée à dimanche prochain. \n2
URL:https://www.vadrouilles.ch/madelonade/vadrouille-reportee/
END:VEVENT
BEGIN:VEVENT
DTSTART;VALUE=DATE:20190317
DTEND;VALUE=DATE:20190318
DTSTAMP:20260425T055420
CREATED:20190213T135351Z
LAST-MODIFIED:20190309T160122Z
UID:20291-1552780800-1552867199@www.vadrouilles.ch
SUMMARY:Envy de Nivéoles ?
DESCRIPTION:Suivre la Madelon en dehors des sentiers balisés pour aller voir les Nivéoles dans le Vallon d’Envy \nDépart de la gare de Croy à 10:35 \nUne boucle de 10 km d’un peu moins de 3 heures de marche effective. Le chemin peut se montrer un peu compliqué puisqu’il n’est pas forcément super bien entretenu\, mais la joie de voir toute une vallée tapissée de mes fleurs préférées.  \nInitialement prévue le 10 mars elle a été reportée au 17 mars pour des raisons météo. \n2
URL:https://www.vadrouilles.ch/madelonade/envy-de-niveoles/
ATTACH;FMTTYPE=image/jpeg:https://www.vadrouilles.ch/wp-content/uploads/2017/03/20170301_105729.jpg
END:VEVENT
BEGIN:VEVENT
DTSTART;VALUE=DATE:20190324
DTEND;VALUE=DATE:20190325
DTSTAMP:20260425T055420
CREATED:20190213T140335Z
LAST-MODIFIED:20190213T140455Z
UID:20293-1553385600-1553471999@www.vadrouilles.ch
SUMMARY:La petite aux Jonquilles
DESCRIPTION:Départ de la gare d’Eclépens-gare 11:15 \nC’est la vadrouille la plus attendue\, ma préférée ! Jonquilles et Canal d’Entreroches !\nDepuis 2003\, je n’ai jamais manqué d’aller visiter l’endroit à cette saison. Si tout va bien\, 2019 ne fera pas exception à cette règle. Ce jour-là c’est vadrouille pour tous ! Vraiment. Le chemin est facile (et modulable) et le spectacle de la forêt en fleur est magnifique. \nEclépens – Eclépens \n2
URL:https://www.vadrouilles.ch/madelonade/la-petite-aux-jonquilles/
ATTACH;FMTTYPE=image/jpeg:https://www.vadrouilles.ch/wp-content/uploads/2014/03/wpid-20140316_101621.jpg
END:VEVENT
BEGIN:VEVENT
DTSTART;VALUE=DATE:20190329
DTEND;VALUE=DATE:20190330
DTSTAMP:20260425T055420
CREATED:20190326T163931Z
LAST-MODIFIED:20190326T163931Z
UID:20338-1553817600-1553903999@www.vadrouilles.ch
SUMMARY:A la cueillette de Moiry
DESCRIPTION:Départ de Moiry. Collège 12:12 \nChampignonade de débutants dans les bois de Moiry \n2
URL:https://www.vadrouilles.ch/madelonade/a-la-cueillette-de-moiry/
ATTACH;FMTTYPE=image/jpeg:https://www.vadrouilles.ch/wp-content/uploads/2017/05/20170523_131154_001.jpg
END:VEVENT
BEGIN:VEVENT
DTSTART;VALUE=DATE:20190331
DTEND;VALUE=DATE:20190401
DTSTAMP:20260425T055420
CREATED:20190304T162331Z
LAST-MODIFIED:20190304T162331Z
UID:20322-1553990400-1554076799@www.vadrouilles.ch
SUMMARY:Les petits chemins jaunes à Donis
DESCRIPTION:Départ de Charrat-Fully : 10:55 \nUn petit tour pour voir les Adonis.\nCe soleil dans les herbes sèches me fait toujours du bien pour commencer la belle saison. Pas trop longue et facile. Laly sera de la partie. Une vraie merveille sur un petit sentier comme si on était à la montagne. \nCharrat – Saxon \n2
URL:https://www.vadrouilles.ch/madelonade/les-petits-chemins-jaunes-a-donis/
ATTACH;FMTTYPE=image/jpeg:https://www.vadrouilles.ch/wp-content/uploads/2017/03/20170326_193048.jpg
END:VEVENT
END:VCALENDAR